BEGIN:VCALENDAR
VERSION:2.0
PRODID:-//Wyckoff Chamber of Commerce - ECPv5.0.0.1//NONSGML v1.0//EN
CALSCALE:GREGORIAN
METHOD:PUBLISH
X-WR-CALNAME:Wyckoff Chamber of Commerce
X-ORIGINAL-URL:https://wyckoffchamber.com
X-WR-CALDESC:Events for Wyckoff Chamber of Commerce
BEGIN:VTIMEZONE
TZID:UTC
BEGIN:STANDARD
TZOFFSETFROM:+0000
TZOFFSETTO:+0000
TZNAME:UTC
DTSTART:20170101T000000
END:STANDARD
END:VTIMEZONE
BEGIN:VEVENT
DTSTART;TZID=UTC:20170603T103000
DTEND;TZID=UTC:20170603T163000
DTSTAMP:20260423T133915
CREATED:20150522T224004Z
LAST-MODIFIED:20170524T222127Z
UID:2633-1496485800-1496507400@wyckoffchamber.com
SUMMARY:Wyckoff Day - June 3rd
DESCRIPTION:Saturday\, June 3rd from 10:30 am-4:30 pm at the Wyckoff YMCA - 691 Wyckoff Ave.\nThe Wyckoff Family YMCA is pleased to present its 8th Annual Wyckoff Day on Saturday\, June 3rd from 10:30-4:30 pm at the Wyckoff Y.\n The event will feature local merchants and non-profit organizations from across the area\, delicious food\, live music\, amusement rides and carnival games\, along with the Annual “Duckie Derby.” Proceeds to benefit Wyckoff’s Volunteer Fire Department and Ambulance Corps. \nCome join us for a fun-filled family day! \n
URL:https://wyckoffchamber.com/event/wyckoff-day-june-6/
END:VEVENT
END:VCALENDAR