BEGIN:VCALENDAR
VERSION:2.0
PRODID:-//Wyckoff Chamber of Commerce - ECPv5.0.0.1//NONSGML v1.0//EN
CALSCALE:GREGORIAN
METHOD:PUBLISH
X-WR-CALNAME:Wyckoff Chamber of Commerce
X-ORIGINAL-URL:https://wyckoffchamber.com
X-WR-CALDESC:Events for Wyckoff Chamber of Commerce
BEGIN:VTIMEZONE
TZID:UTC
BEGIN:STANDARD
TZOFFSETFROM:+0000
TZOFFSETTO:+0000
TZNAME:UTC
DTSTART:20180101T000000
END:STANDARD
END:VTIMEZONE
BEGIN:VEVENT
DTSTART;TZID=UTC:20180210T080000
DTEND;TZID=UTC:20180525T170000
DTSTAMP:20260419T140641
CREATED:20180210T055951Z
LAST-MODIFIED:20180227T004701Z
UID:3605-1518249600-1527267600@wyckoffchamber.com
SUMMARY:Wyckoff Chamber Spring Photo Contest
DESCRIPTION:Get your camera ready! Submit a photo of Spring in Wyckoff. Submit in jpeg format to wyckoffchamber@gmail.com by May25th. Photos will be posted to our Wyckoff Chamber of Commerce Facebook page. The amount of "likes" a photo gets determines the winners. First Prize is $250\, second prize is $150 and third is $75. Lastly\, there will be a Board Member  pick and this winner will receive gift certificates to be used at our member businesses. \n \n  \n
URL:https://wyckoffchamber.com/event/wyckoff-chamber-spring-photo-contest/
END:VEVENT
END:VCALENDAR