BEGIN:VCALENDAR
VERSION:2.0
PRODID:-//Wyckoff Chamber of Commerce - ECPv5.0.0.1//NONSGML v1.0//EN
CALSCALE:GREGORIAN
METHOD:PUBLISH
X-WR-CALNAME:Wyckoff Chamber of Commerce
X-ORIGINAL-URL:https://wyckoffchamber.com
X-WR-CALDESC:Events for Wyckoff Chamber of Commerce
BEGIN:VTIMEZONE
TZID:UTC
BEGIN:STANDARD
TZOFFSETFROM:+0000
TZOFFSETTO:+0000
TZNAME:UTC
DTSTART:20180101T000000
END:STANDARD
END:VTIMEZONE
BEGIN:VEVENT
DTSTART;TZID=UTC:20180315T080000
DTEND;TZID=UTC:20180315T090000
DTSTAMP:20260419T122155
CREATED:20180217T061602Z
LAST-MODIFIED:20180305T210826Z
UID:3610-1521100800-1521104400@wyckoffchamber.com
SUMMARY:Wyckoff Chamber General Meeting
DESCRIPTION:The next meeting of the Wyckoff Chamber of Commerce will be held on Thursday March 15th\, 8:00 am at the Wyckoff Public Library (200 Woodland Ave.\,Wyckoff). Featured speaker will be Dr. Sunil Bhaskaran\, Professor & Director at Bronx Community College Geospatial Center of the CUNY Crest Institute. His talk "Managing the Earth from Space" will give us information about geospatial techniques for mapping urban land use. Come have some breakfast as well as network with other business professionals. RSVP to wyckoffchamber@gmail.com or call 201-468-1999 \n
URL:https://wyckoffchamber.com/event/wyckoff-chamber-general-meeting-2/
LOCATION:Wyckoff Public Library\, 200 Woodlland Ave.\, Wyckoff\, 07481\, United States
END:VEVENT
END:VCALENDAR