BEGIN:VCALENDAR
VERSION:2.0
PRODID:-//Wyckoff Chamber of Commerce - ECPv5.0.0.1//NONSGML v1.0//EN
CALSCALE:GREGORIAN
METHOD:PUBLISH
X-WR-CALNAME:Wyckoff Chamber of Commerce
X-ORIGINAL-URL:https://wyckoffchamber.com
X-WR-CALDESC:Events for Wyckoff Chamber of Commerce
BEGIN:VTIMEZONE
TZID:UTC
BEGIN:STANDARD
TZOFFSETFROM:+0000
TZOFFSETTO:+0000
TZNAME:UTC
DTSTART:20170101T000000
END:STANDARD
END:VTIMEZONE
BEGIN:VEVENT
DTSTART;TZID=UTC:20170401T080000
DTEND;TZID=UTC:20170401T170000
DTSTAMP:20260423T173425
CREATED:20170219T230425Z
LAST-MODIFIED:20170219T231115Z
UID:3062-1491033600-1491066000@wyckoffchamber.com
SUMMARY:TEAM UP TO TIDY UP
DESCRIPTION:Team Up to Tidy Up is traditionally held in Wyckoff on the first Saturday in April. The first Team Up to Tidy Up Day was held in April of 1989\, an outgrowth of the State Clean Community Grant program. Each year community groups such as the Girl and Boy Scouts\, Chamber of Commerce\, Partners in Pride\, Lions Club\, as well as school groups and numerous Wyckoff residents have turned out for a successful attack on litter. The tireless effort of community members has made Team Up to Tidy Up Day a successful tradition that we hope is great fun too! \nFor further information on Team Up to Tidy Up Day\, please call the Recycling Office at 201-891-7000 ext. 101. \n
URL:https://wyckoffchamber.com/event/team-up-to-tidy-up/
END:VEVENT
END:VCALENDAR